BEGIN:VCALENDAR
VERSION:2.0
PRODID:-//Tukios.com/
BEGIN:VEVENT
UID:30f5d94e-765c-449e-8f9a-80247515a2a6@www.harrytreidfh.com
DTSTAMP:20260422T024748Z
DTSTART:20260423T140000Z
DTEND:20260423T150000Z
SUMMARY:Visitation
DESCRIPTION:
URL:https://www.harrytreidfh.com/obituaries/debrah-warren
LOCATION:Harry T. Reid Funeral Home 901 4th St NW  Jasper FL 32052
GEO:30.5225445;-82.9543263
END:VEVENT
END:VCALENDAR