BEGIN:VCALENDAR
VERSION:2.0
PRODID:-//Tukios.com/
BEGIN:VEVENT
UID:2fe42789-59bc-422e-af2e-752482f3cd89@www.harrytreidfh.com
DTSTAMP:20260422T024247Z
DTSTART:20260423T150000Z
DTEND:20260423T160000Z
SUMMARY:Funeral Service
DESCRIPTION:
URL:https://www.harrytreidfh.com/obituaries/debrah-warren
LOCATION:Harry T. Reid Funeral Home 901 4th St NW  Jasper FL 32052
GEO:30.5225445;-82.9543263
END:VEVENT
END:VCALENDAR