BEGIN:VCALENDAR
VERSION:2.0
PRODID:-//Tukios.com/
BEGIN:VEVENT
UID:030baf8b-0c12-480e-95e5-85ee9c243724@www.harrytreidfh.com
DTSTAMP:20260424T192153Z
DTSTART:20260427T210000Z
DTEND:20260427T230000Z
SUMMARY:Visitation
DESCRIPTION:
URL:https://www.harrytreidfh.com/obituaries/james-reid
LOCATION: 207 2nd Street Northeast  Jasper FL 32052
GEO:30.5198459;-82.9459628
END:VEVENT
END:VCALENDAR