BEGIN:VCALENDAR
VERSION:2.0
PRODID:-//Tukios.com/
BEGIN:VEVENT
UID:d4b0fc5d-5e08-4793-bff3-cf1de8e6d4e5@www.harrytreidfh.com
DTSTAMP:20260424T192510Z
DTSTART:20260428T150000Z
DTEND:20260428T160000Z
SUMMARY:Funeral Service
DESCRIPTION:
URL:https://www.harrytreidfh.com/obituaries/james-reid
LOCATION: 207 2nd Street Northeast  Jasper FL 32052
GEO:30.5198459;-82.9459628
END:VEVENT
END:VCALENDAR